BEGIN:VCALENDAR
VERSION:2.0
PRODID:icalendar-ruby
CALSCALE:GREGORIAN
BEGIN:VEVENT
DTSTAMP:20260419T154620Z
UID:0b958351-ec43-44d2-85b4-f106c2fc91f1
DTSTART;VALUE=DATE:20220215
DESCRIPTION:Memorial University of Newfoundland\nMemorial Internal Grant: I
 SER Research Grant\n\nDeadlines\n2022-02-15 - Internal (HSS)\n2022-03-01 -
  Internal (See description)\n\nView this competition in HSS's Research Fun
 ding Tracker at https://hss2.hss.mun.ca/funding/competitions/2986.\n\nFor 
 more information\, on this competition or any other prospective funding pr
 oposal\,\nor to inform the Dean's Office of interest in an application or 
 competition\,\ncontact an HSS Grants Facilitator. Details can be found at\
 nhttps://www.mun.ca/hss/faculty_staff/research_support_services/\n\n
LOCATION:Internal (HSS)
SUMMARY:Memorial Internal Grant: ISER Research Grant
URL;VALUE=URI:https://hss2.hss.mun.ca/funding/competitions/2986
CATEGORIES:Internal (HSS)
END:VEVENT
BEGIN:VEVENT
DTSTAMP:20260419T154620Z
UID:a4e86a8f-8aa0-49e1-a570-368948b36fd8
DTSTART;VALUE=DATE:20220301
DESCRIPTION:Memorial University of Newfoundland\nMemorial Internal Grant: I
 SER Research Grant\n\nDeadlines\n2022-02-15 - Internal (HSS)\n2022-03-01 -
  Internal (See description)\n\nView this competition in HSS's Research Fun
 ding Tracker at https://hss2.hss.mun.ca/funding/competitions/2986.\n\nFor 
 more information\, on this competition or any other prospective funding pr
 oposal\,\nor to inform the Dean's Office of interest in an application or 
 competition\,\ncontact an HSS Grants Facilitator. Details can be found at\
 nhttps://www.mun.ca/hss/faculty_staff/research_support_services/\n\n
LOCATION:Internal (See description)
SUMMARY:Memorial Internal Grant: ISER Research Grant
URL;VALUE=URI:https://hss2.hss.mun.ca/funding/competitions/2986
CATEGORIES:Internal (See description)
END:VEVENT
END:VCALENDAR
