BEGIN:VCALENDAR
VERSION:2.0
PRODID:icalendar-ruby
CALSCALE:GREGORIAN
BEGIN:VEVENT
DTSTAMP:20260420T102951Z
UID:5e449a56-5f75-44b8-a2b7-3a691210433a
DTSTART;VALUE=DATE:20260105
DESCRIPTION:Government of Northwest Territories\nGov. of NWT: Cumulative Im
 pact Monitoring Program (NWT CIMP) - Full application\n\nDeadlines\n2026-0
 1-05 - Internal (HSS)\n2026-01-05 - Internal (RIS)\n2026-01-06 - External\
 n\nView this competition in HSS's Research Funding Tracker at https://hss2
 .hss.mun.ca/funding/competitions/3767.\n\nFor more information\, on this c
 ompetition or any other prospective funding proposal\,\nor to inform the D
 ean's Office of interest in an application or competition\,\ncontact an HS
 S Grants Facilitator. Details can be found at\nhttps://www.mun.ca/hss/facu
 lty_staff/research_support_services/\n\n
LOCATION:Internal (HSS)
SUMMARY:Gov. of NWT: Cumulative Impact Monitoring Program (NWT CIMP) - Full
  application
URL;VALUE=URI:https://hss2.hss.mun.ca/funding/competitions/3767
CATEGORIES:Internal (HSS)
END:VEVENT
BEGIN:VEVENT
DTSTAMP:20260420T102951Z
UID:d7664f56-6419-4539-a7f9-31b7878f5106
DTSTART;VALUE=DATE:20260105
DESCRIPTION:Government of Northwest Territories\nGov. of NWT: Cumulative Im
 pact Monitoring Program (NWT CIMP) - Full application\n\nDeadlines\n2026-0
 1-05 - Internal (HSS)\n2026-01-05 - Internal (RIS)\n2026-01-06 - External\
 n\nView this competition in HSS's Research Funding Tracker at https://hss2
 .hss.mun.ca/funding/competitions/3767.\n\nFor more information\, on this c
 ompetition or any other prospective funding proposal\,\nor to inform the D
 ean's Office of interest in an application or competition\,\ncontact an HS
 S Grants Facilitator. Details can be found at\nhttps://www.mun.ca/hss/facu
 lty_staff/research_support_services/\n\n
LOCATION:Internal (RIS)
SUMMARY:Gov. of NWT: Cumulative Impact Monitoring Program (NWT CIMP) - Full
  application
URL;VALUE=URI:https://hss2.hss.mun.ca/funding/competitions/3767
CATEGORIES:Internal (RIS)
END:VEVENT
BEGIN:VEVENT
DTSTAMP:20260420T102951Z
UID:2b162937-ff94-4a7d-9824-cd9e3f195824
DTSTART;VALUE=DATE:20260106
DESCRIPTION:Government of Northwest Territories\nGov. of NWT: Cumulative Im
 pact Monitoring Program (NWT CIMP) - Full application\n\nDeadlines\n2026-0
 1-05 - Internal (HSS)\n2026-01-05 - Internal (RIS)\n2026-01-06 - External\
 n\nView this competition in HSS's Research Funding Tracker at https://hss2
 .hss.mun.ca/funding/competitions/3767.\n\nFor more information\, on this c
 ompetition or any other prospective funding proposal\,\nor to inform the D
 ean's Office of interest in an application or competition\,\ncontact an HS
 S Grants Facilitator. Details can be found at\nhttps://www.mun.ca/hss/facu
 lty_staff/research_support_services/\n\n
LOCATION:External
SUMMARY:Gov. of NWT: Cumulative Impact Monitoring Program (NWT CIMP) - Full
  application
URL;VALUE=URI:https://hss2.hss.mun.ca/funding/competitions/3767
CATEGORIES:External
END:VEVENT
END:VCALENDAR
