BEGIN:VCALENDAR
VERSION:2.0
PRODID:icalendar-ruby
CALSCALE:GREGORIAN
BEGIN:VEVENT
DTSTAMP:20260420T212632Z
UID:b5b86f1c-50c4-4bee-87f8-6677e86829a5
DTSTART;VALUE=DATE:20260209
DESCRIPTION:National Research Council Canada\nDorothy Killam Research Fello
 wships\n\nDeadlines\n2026-02-09 - Internal (HSS)\n2026-02-16 - Internal (S
 ee description)\n2026-05-22 - External\n\nView this competition in HSS's R
 esearch Funding Tracker at https://hss2.hss.mun.ca/funding/competitions/37
 73.\n\nFor more information\, on this competition or any other prospective
  funding proposal\,\nor to inform the Dean's Office of interest in an appl
 ication or competition\,\ncontact an HSS Grants Facilitator. Details can b
 e found at\nhttps://www.mun.ca/hss/faculty_staff/research_support_services
 /\n\n
LOCATION:Internal (HSS)
SUMMARY:Dorothy Killam Research Fellowships
URL;VALUE=URI:https://hss2.hss.mun.ca/funding/competitions/3773
CATEGORIES:Internal (HSS)
END:VEVENT
BEGIN:VEVENT
DTSTAMP:20260420T212632Z
UID:5e7509e2-8262-45c5-a7a2-4cc2747429b4
DTSTART;VALUE=DATE:20260216
DESCRIPTION:National Research Council Canada\nDorothy Killam Research Fello
 wships\n\nDeadlines\n2026-02-09 - Internal (HSS)\n2026-02-16 - Internal (S
 ee description)\n2026-05-22 - External\n\nView this competition in HSS's R
 esearch Funding Tracker at https://hss2.hss.mun.ca/funding/competitions/37
 73.\n\nFor more information\, on this competition or any other prospective
  funding proposal\,\nor to inform the Dean's Office of interest in an appl
 ication or competition\,\ncontact an HSS Grants Facilitator. Details can b
 e found at\nhttps://www.mun.ca/hss/faculty_staff/research_support_services
 /\n\n
LOCATION:Internal (See description)
SUMMARY:Dorothy Killam Research Fellowships
URL;VALUE=URI:https://hss2.hss.mun.ca/funding/competitions/3773
CATEGORIES:Internal (See description)
END:VEVENT
BEGIN:VEVENT
DTSTAMP:20260420T212632Z
UID:09f60931-dcf5-41b7-ae60-6deb5e53f45b
DTSTART;VALUE=DATE:20260522
DESCRIPTION:National Research Council Canada\nDorothy Killam Research Fello
 wships\n\nDeadlines\n2026-02-09 - Internal (HSS)\n2026-02-16 - Internal (S
 ee description)\n2026-05-22 - External\n\nView this competition in HSS's R
 esearch Funding Tracker at https://hss2.hss.mun.ca/funding/competitions/37
 73.\n\nFor more information\, on this competition or any other prospective
  funding proposal\,\nor to inform the Dean's Office of interest in an appl
 ication or competition\,\ncontact an HSS Grants Facilitator. Details can b
 e found at\nhttps://www.mun.ca/hss/faculty_staff/research_support_services
 /\n\n
LOCATION:External
SUMMARY:Dorothy Killam Research Fellowships
URL;VALUE=URI:https://hss2.hss.mun.ca/funding/competitions/3773
CATEGORIES:External
END:VEVENT
END:VCALENDAR
