BEGIN:VCALENDAR
VERSION:2.0
PRODID:icalendar-ruby
CALSCALE:GREGORIAN
BEGIN:VEVENT
DTSTAMP:20260420T102951Z
UID:7c7ba89d-0265-474b-bd07-43a03cc8a1c4
DTSTART;VALUE=DATE:20260209
DESCRIPTION:National Research Council Canada\nKillam NRC Paul Corkum Fellow
 ship\n\nDeadlines\n2026-02-09 - Internal (HSS)\n2026-02-16 - Internal (RIS
 )\n2026-06-05 - External\n\nView this competition in HSS's Research Fundin
 g Tracker at https://hss2.hss.mun.ca/funding/competitions/3774.\n\nFor mor
 e information\, on this competition or any other prospective funding propo
 sal\,\nor to inform the Dean's Office of interest in an application or com
 petition\,\ncontact an HSS Grants Facilitator. Details can be found at\nht
 tps://www.mun.ca/hss/faculty_staff/research_support_services/\n\n
LOCATION:Internal (HSS)
SUMMARY:Killam NRC Paul Corkum Fellowship
URL;VALUE=URI:https://hss2.hss.mun.ca/funding/competitions/3774
CATEGORIES:Internal (HSS)
END:VEVENT
BEGIN:VEVENT
DTSTAMP:20260420T102951Z
UID:fd2fa88a-1229-40b4-821c-0724ee13115c
DTSTART;VALUE=DATE:20260216
DESCRIPTION:National Research Council Canada\nKillam NRC Paul Corkum Fellow
 ship\n\nDeadlines\n2026-02-09 - Internal (HSS)\n2026-02-16 - Internal (RIS
 )\n2026-06-05 - External\n\nView this competition in HSS's Research Fundin
 g Tracker at https://hss2.hss.mun.ca/funding/competitions/3774.\n\nFor mor
 e information\, on this competition or any other prospective funding propo
 sal\,\nor to inform the Dean's Office of interest in an application or com
 petition\,\ncontact an HSS Grants Facilitator. Details can be found at\nht
 tps://www.mun.ca/hss/faculty_staff/research_support_services/\n\n
LOCATION:Internal (RIS)
SUMMARY:Killam NRC Paul Corkum Fellowship
URL;VALUE=URI:https://hss2.hss.mun.ca/funding/competitions/3774
CATEGORIES:Internal (RIS)
END:VEVENT
BEGIN:VEVENT
DTSTAMP:20260420T102951Z
UID:1f5d062e-9f86-45dc-87f4-de0ad173c3d8
DTSTART;VALUE=DATE:20260605
DESCRIPTION:National Research Council Canada\nKillam NRC Paul Corkum Fellow
 ship\n\nDeadlines\n2026-02-09 - Internal (HSS)\n2026-02-16 - Internal (RIS
 )\n2026-06-05 - External\n\nView this competition in HSS's Research Fundin
 g Tracker at https://hss2.hss.mun.ca/funding/competitions/3774.\n\nFor mor
 e information\, on this competition or any other prospective funding propo
 sal\,\nor to inform the Dean's Office of interest in an application or com
 petition\,\ncontact an HSS Grants Facilitator. Details can be found at\nht
 tps://www.mun.ca/hss/faculty_staff/research_support_services/\n\n
LOCATION:External
SUMMARY:Killam NRC Paul Corkum Fellowship
URL;VALUE=URI:https://hss2.hss.mun.ca/funding/competitions/3774
CATEGORIES:External
END:VEVENT
END:VCALENDAR
