BEGIN:VCALENDAR
VERSION:2.0
PRODID:icalendar-ruby
CALSCALE:GREGORIAN
BEGIN:VEVENT
DTSTAMP:20260420T212632Z
UID:09edc34c-ebe8-425d-bb60-386162d6a1ab
DTSTART;VALUE=DATE:20260106
DESCRIPTION:Northern Contaminants Program\nNorthern Contaminants Program 20
 26\n\nDeadlines\n2026-01-06 - Internal (HSS)\n2026-01-15 - Internal (RIS)\
 n2026-01-20 - External\n\nView this competition in HSS's Research Funding 
 Tracker at https://hss2.hss.mun.ca/funding/competitions/3776.\n\nFor more 
 information\, on this competition or any other prospective funding proposa
 l\,\nor to inform the Dean's Office of interest in an application or compe
 tition\,\ncontact an HSS Grants Facilitator. Details can be found at\nhttp
 s://www.mun.ca/hss/faculty_staff/research_support_services/\n\n
LOCATION:Internal (HSS)
SUMMARY:Northern Contaminants Program 2026
URL;VALUE=URI:https://hss2.hss.mun.ca/funding/competitions/3776
CATEGORIES:Internal (HSS)
END:VEVENT
BEGIN:VEVENT
DTSTAMP:20260420T212632Z
UID:ba66b4d5-e031-4371-b74e-78a723c1bb81
DTSTART;VALUE=DATE:20260115
DESCRIPTION:Northern Contaminants Program\nNorthern Contaminants Program 20
 26\n\nDeadlines\n2026-01-06 - Internal (HSS)\n2026-01-15 - Internal (RIS)\
 n2026-01-20 - External\n\nView this competition in HSS's Research Funding 
 Tracker at https://hss2.hss.mun.ca/funding/competitions/3776.\n\nFor more 
 information\, on this competition or any other prospective funding proposa
 l\,\nor to inform the Dean's Office of interest in an application or compe
 tition\,\ncontact an HSS Grants Facilitator. Details can be found at\nhttp
 s://www.mun.ca/hss/faculty_staff/research_support_services/\n\n
LOCATION:Internal (RIS)
SUMMARY:Northern Contaminants Program 2026
URL;VALUE=URI:https://hss2.hss.mun.ca/funding/competitions/3776
CATEGORIES:Internal (RIS)
END:VEVENT
BEGIN:VEVENT
DTSTAMP:20260420T212632Z
UID:d318559c-bba0-4ffc-b0cf-01346a649ab4
DTSTART;VALUE=DATE:20260120
DESCRIPTION:Northern Contaminants Program\nNorthern Contaminants Program 20
 26\n\nDeadlines\n2026-01-06 - Internal (HSS)\n2026-01-15 - Internal (RIS)\
 n2026-01-20 - External\n\nView this competition in HSS's Research Funding 
 Tracker at https://hss2.hss.mun.ca/funding/competitions/3776.\n\nFor more 
 information\, on this competition or any other prospective funding proposa
 l\,\nor to inform the Dean's Office of interest in an application or compe
 tition\,\ncontact an HSS Grants Facilitator. Details can be found at\nhttp
 s://www.mun.ca/hss/faculty_staff/research_support_services/\n\n
LOCATION:External
SUMMARY:Northern Contaminants Program 2026
URL;VALUE=URI:https://hss2.hss.mun.ca/funding/competitions/3776
CATEGORIES:External
END:VEVENT
END:VCALENDAR
