BEGIN:VCALENDAR
VERSION:2.0
PRODID:icalendar-ruby
CALSCALE:GREGORIAN
BEGIN:VEVENT
DTSTAMP:20260420T104849Z
UID:38a54706-9741-4ba2-bf81-1ba89074d393
DTSTART;VALUE=DATE:20270223
DESCRIPTION:Trudeau Foundation\nTrudeau Foundation Fellowships\n\nDeadlines
 \n2027-02-23 - Internal (RIS)\n2027-05-15 - External\n\nView this competit
 ion in HSS's Research Funding Tracker at https://hss2.hss.mun.ca/funding/c
 ompetitions/3830.\n\nFor more information\, on this competition or any oth
 er prospective funding proposal\,\nor to inform the Dean's Office of inter
 est in an application or competition\,\ncontact an HSS Grants Facilitator.
  Details can be found at\nhttps://www.mun.ca/hss/faculty_staff/research_su
 pport_services/\n\n
LOCATION:Internal (RIS)
SUMMARY:Trudeau Foundation Fellowships
URL;VALUE=URI:https://hss2.hss.mun.ca/funding/competitions/3830
CATEGORIES:Internal (RIS)
END:VEVENT
BEGIN:VEVENT
DTSTAMP:20260420T104849Z
UID:1b93a9d2-b72b-440a-80c7-e14b21655b96
DTSTART;VALUE=DATE:20270515
DESCRIPTION:Trudeau Foundation\nTrudeau Foundation Fellowships\n\nDeadlines
 \n2027-02-23 - Internal (RIS)\n2027-05-15 - External\n\nView this competit
 ion in HSS's Research Funding Tracker at https://hss2.hss.mun.ca/funding/c
 ompetitions/3830.\n\nFor more information\, on this competition or any oth
 er prospective funding proposal\,\nor to inform the Dean's Office of inter
 est in an application or competition\,\ncontact an HSS Grants Facilitator.
  Details can be found at\nhttps://www.mun.ca/hss/faculty_staff/research_su
 pport_services/\n\n
LOCATION:External
SUMMARY:Trudeau Foundation Fellowships
URL;VALUE=URI:https://hss2.hss.mun.ca/funding/competitions/3830
CATEGORIES:External
END:VEVENT
END:VCALENDAR
