BEGIN:VCALENDAR
VERSION:2.0
PRODID:icalendar-ruby
CALSCALE:GREGORIAN
BEGIN:VEVENT
DTSTAMP:20260420T104849Z
UID:267020c6-340a-4451-8095-204151b55295
DTSTART;VALUE=DATE:20260511
DESCRIPTION:Government of Alberta\nGov. Alberta: First responders’ mental
  health grants\n\nDeadlines\n2026-05-11 - Internal (HSS)\n2026-05-20 - Int
 ernal (RIS)\n2026-05-25 - External\n\nView this competition in HSS's Resea
 rch Funding Tracker at https://hss2.hss.mun.ca/funding/competitions/3843.\
 n\nFor more information\, on this competition or any other prospective fun
 ding proposal\,\nor to inform the Dean's Office of interest in an applicat
 ion or competition\,\ncontact an HSS Grants Facilitator. Details can be fo
 und at\nhttps://www.mun.ca/hss/faculty_staff/research_support_services/\n\
 n
LOCATION:Internal (HSS)
SUMMARY:Gov. Alberta: First responders’ mental health grants
URL;VALUE=URI:https://hss2.hss.mun.ca/funding/competitions/3843
CATEGORIES:Internal (HSS)
END:VEVENT
BEGIN:VEVENT
DTSTAMP:20260420T104849Z
UID:967dfb06-272b-441d-8d63-48da0d7b231d
DTSTART;VALUE=DATE:20260520
DESCRIPTION:Government of Alberta\nGov. Alberta: First responders’ mental
  health grants\n\nDeadlines\n2026-05-11 - Internal (HSS)\n2026-05-20 - Int
 ernal (RIS)\n2026-05-25 - External\n\nView this competition in HSS's Resea
 rch Funding Tracker at https://hss2.hss.mun.ca/funding/competitions/3843.\
 n\nFor more information\, on this competition or any other prospective fun
 ding proposal\,\nor to inform the Dean's Office of interest in an applicat
 ion or competition\,\ncontact an HSS Grants Facilitator. Details can be fo
 und at\nhttps://www.mun.ca/hss/faculty_staff/research_support_services/\n\
 n
LOCATION:Internal (RIS)
SUMMARY:Gov. Alberta: First responders’ mental health grants
URL;VALUE=URI:https://hss2.hss.mun.ca/funding/competitions/3843
CATEGORIES:Internal (RIS)
END:VEVENT
BEGIN:VEVENT
DTSTAMP:20260420T104849Z
UID:8437b3f9-958c-4726-bcd0-16209e6318ac
DTSTART;VALUE=DATE:20260525
DESCRIPTION:Government of Alberta\nGov. Alberta: First responders’ mental
  health grants\n\nDeadlines\n2026-05-11 - Internal (HSS)\n2026-05-20 - Int
 ernal (RIS)\n2026-05-25 - External\n\nView this competition in HSS's Resea
 rch Funding Tracker at https://hss2.hss.mun.ca/funding/competitions/3843.\
 n\nFor more information\, on this competition or any other prospective fun
 ding proposal\,\nor to inform the Dean's Office of interest in an applicat
 ion or competition\,\ncontact an HSS Grants Facilitator. Details can be fo
 und at\nhttps://www.mun.ca/hss/faculty_staff/research_support_services/\n\
 n
LOCATION:External
SUMMARY:Gov. Alberta: First responders’ mental health grants
URL;VALUE=URI:https://hss2.hss.mun.ca/funding/competitions/3843
CATEGORIES:External
END:VEVENT
END:VCALENDAR
