BEGIN:VCALENDAR
VERSION:2.0
PRODID:icalendar-ruby
CALSCALE:GREGORIAN
BEGIN:VEVENT
DTSTAMP:20260422T032809Z
UID:4a40b417-545e-4bdb-b898-c8bf4b936208
DTSTART;VALUE=DATE:20260406
DESCRIPTION:Memorial University of Newfoundland\nMemorial Internal Award: T
 erra Nova Innovator Award \n\nDeadlines\n2026-04-06 - Advanced Draft Feedb
 ack (HSS)\n2026-04-27 - Internal (HSS)\n2026-05-01 - Internal (See descrip
 tion)\n\nView this competition in HSS's Research Funding Tracker at https:
 //hss2.hss.mun.ca/funding/competitions/3844.\n\nFor more information\, on 
 this competition or any other prospective funding proposal\,\nor to inform
  the Dean's Office of interest in an application or competition\,\ncontact
  an HSS Grants Facilitator. Details can be found at\nhttps://www.mun.ca/hs
 s/faculty_staff/research_support_services/\n\n
LOCATION:Advanced Draft Feedback (HSS)
SUMMARY:Memorial Internal Award: Terra Nova Innovator Award 
URL;VALUE=URI:https://hss2.hss.mun.ca/funding/competitions/3844
CATEGORIES:Advanced Draft Feedback (HSS)
END:VEVENT
BEGIN:VEVENT
DTSTAMP:20260422T032809Z
UID:c5b3bafa-4086-4ac8-8811-4781c8a30ad0
DTSTART;VALUE=DATE:20260427
DESCRIPTION:Memorial University of Newfoundland\nMemorial Internal Award: T
 erra Nova Innovator Award \n\nDeadlines\n2026-04-06 - Advanced Draft Feedb
 ack (HSS)\n2026-04-27 - Internal (HSS)\n2026-05-01 - Internal (See descrip
 tion)\n\nView this competition in HSS's Research Funding Tracker at https:
 //hss2.hss.mun.ca/funding/competitions/3844.\n\nFor more information\, on 
 this competition or any other prospective funding proposal\,\nor to inform
  the Dean's Office of interest in an application or competition\,\ncontact
  an HSS Grants Facilitator. Details can be found at\nhttps://www.mun.ca/hs
 s/faculty_staff/research_support_services/\n\n
LOCATION:Internal (HSS)
SUMMARY:Memorial Internal Award: Terra Nova Innovator Award 
URL;VALUE=URI:https://hss2.hss.mun.ca/funding/competitions/3844
CATEGORIES:Internal (HSS)
END:VEVENT
BEGIN:VEVENT
DTSTAMP:20260422T032809Z
UID:2c0cf2e9-64ed-4ca3-80d8-abfc8d09da8e
DTSTART;VALUE=DATE:20260501
DESCRIPTION:Memorial University of Newfoundland\nMemorial Internal Award: T
 erra Nova Innovator Award \n\nDeadlines\n2026-04-06 - Advanced Draft Feedb
 ack (HSS)\n2026-04-27 - Internal (HSS)\n2026-05-01 - Internal (See descrip
 tion)\n\nView this competition in HSS's Research Funding Tracker at https:
 //hss2.hss.mun.ca/funding/competitions/3844.\n\nFor more information\, on 
 this competition or any other prospective funding proposal\,\nor to inform
  the Dean's Office of interest in an application or competition\,\ncontact
  an HSS Grants Facilitator. Details can be found at\nhttps://www.mun.ca/hs
 s/faculty_staff/research_support_services/\n\n
LOCATION:Internal (See description)
SUMMARY:Memorial Internal Award: Terra Nova Innovator Award 
URL;VALUE=URI:https://hss2.hss.mun.ca/funding/competitions/3844
CATEGORIES:Internal (See description)
END:VEVENT
END:VCALENDAR
