BEGIN:VCALENDAR
VERSION:2.0
PRODID:icalendar-ruby
CALSCALE:GREGORIAN
BEGIN:VEVENT
DTSTAMP:20260420T104849Z
UID:2a5aac4a-d4d0-4034-ad85-9f0775f1ee95
DTSTART;VALUE=DATE:20260508
DESCRIPTION:Workplace Health\, Safety & Compensation Commission\nGov. of NL
 : WorkplaceNL Research Initiatives Program- LOI and Full application\n\nDe
 adlines\n2026-05-08 - EOI/LOI/NOI\n2026-06-29 - Internal (HSS)\n2026-07-07
  - Internal (RIS)\n2026-07-10 - External\n\nView this competition in HSS's
  Research Funding Tracker at https://hss2.hss.mun.ca/funding/competitions/
 3846.\n\nFor more information\, on this competition or any other prospecti
 ve funding proposal\,\nor to inform the Dean's Office of interest in an ap
 plication or competition\,\ncontact an HSS Grants Facilitator. Details can
  be found at\nhttps://www.mun.ca/hss/faculty_staff/research_support_servic
 es/\n\n
LOCATION:EOI/LOI/NOI
SUMMARY:Gov. of NL: WorkplaceNL Research Initiatives Program- LOI and Full 
 application
URL;VALUE=URI:https://hss2.hss.mun.ca/funding/competitions/3846
CATEGORIES:EOI/LOI/NOI
END:VEVENT
BEGIN:VEVENT
DTSTAMP:20260420T104849Z
UID:085d2f89-a81b-4f3b-b42b-90fc3c7e606e
DTSTART;VALUE=DATE:20260629
DESCRIPTION:Workplace Health\, Safety & Compensation Commission\nGov. of NL
 : WorkplaceNL Research Initiatives Program- LOI and Full application\n\nDe
 adlines\n2026-05-08 - EOI/LOI/NOI\n2026-06-29 - Internal (HSS)\n2026-07-07
  - Internal (RIS)\n2026-07-10 - External\n\nView this competition in HSS's
  Research Funding Tracker at https://hss2.hss.mun.ca/funding/competitions/
 3846.\n\nFor more information\, on this competition or any other prospecti
 ve funding proposal\,\nor to inform the Dean's Office of interest in an ap
 plication or competition\,\ncontact an HSS Grants Facilitator. Details can
  be found at\nhttps://www.mun.ca/hss/faculty_staff/research_support_servic
 es/\n\n
LOCATION:Internal (HSS)
SUMMARY:Gov. of NL: WorkplaceNL Research Initiatives Program- LOI and Full 
 application
URL;VALUE=URI:https://hss2.hss.mun.ca/funding/competitions/3846
CATEGORIES:Internal (HSS)
END:VEVENT
BEGIN:VEVENT
DTSTAMP:20260420T104849Z
UID:efd30d87-46f9-44be-a3fe-036b05c15f3a
DTSTART;VALUE=DATE:20260707
DESCRIPTION:Workplace Health\, Safety & Compensation Commission\nGov. of NL
 : WorkplaceNL Research Initiatives Program- LOI and Full application\n\nDe
 adlines\n2026-05-08 - EOI/LOI/NOI\n2026-06-29 - Internal (HSS)\n2026-07-07
  - Internal (RIS)\n2026-07-10 - External\n\nView this competition in HSS's
  Research Funding Tracker at https://hss2.hss.mun.ca/funding/competitions/
 3846.\n\nFor more information\, on this competition or any other prospecti
 ve funding proposal\,\nor to inform the Dean's Office of interest in an ap
 plication or competition\,\ncontact an HSS Grants Facilitator. Details can
  be found at\nhttps://www.mun.ca/hss/faculty_staff/research_support_servic
 es/\n\n
LOCATION:Internal (RIS)
SUMMARY:Gov. of NL: WorkplaceNL Research Initiatives Program- LOI and Full 
 application
URL;VALUE=URI:https://hss2.hss.mun.ca/funding/competitions/3846
CATEGORIES:Internal (RIS)
END:VEVENT
BEGIN:VEVENT
DTSTAMP:20260420T104849Z
UID:d1a9feb5-3a00-49f3-8ccb-3cfb3af45dc6
DTSTART;VALUE=DATE:20260710
DESCRIPTION:Workplace Health\, Safety & Compensation Commission\nGov. of NL
 : WorkplaceNL Research Initiatives Program- LOI and Full application\n\nDe
 adlines\n2026-05-08 - EOI/LOI/NOI\n2026-06-29 - Internal (HSS)\n2026-07-07
  - Internal (RIS)\n2026-07-10 - External\n\nView this competition in HSS's
  Research Funding Tracker at https://hss2.hss.mun.ca/funding/competitions/
 3846.\n\nFor more information\, on this competition or any other prospecti
 ve funding proposal\,\nor to inform the Dean's Office of interest in an ap
 plication or competition\,\ncontact an HSS Grants Facilitator. Details can
  be found at\nhttps://www.mun.ca/hss/faculty_staff/research_support_servic
 es/\n\n
LOCATION:External
SUMMARY:Gov. of NL: WorkplaceNL Research Initiatives Program- LOI and Full 
 application
URL;VALUE=URI:https://hss2.hss.mun.ca/funding/competitions/3846
CATEGORIES:External
END:VEVENT
END:VCALENDAR
