BEGIN:VCALENDAR
VERSION:2.0
PRODID:icalendar-ruby
CALSCALE:GREGORIAN
BEGIN:VEVENT
DTSTAMP:20260420T104849Z
UID:6165c351-1e7d-4f26-867e-158d33fe395e
DTSTART;VALUE=DATE:20260518
DESCRIPTION:Canadian Standard Association: CSA Group\nCSA Group: Explore Re
 search Program\n\nDeadlines\n2026-05-18 - Internal (HSS)\n2026-05-27 - Int
 ernal (RIS)\n2026-06-01 - External\n\nView this competition in HSS's Resea
 rch Funding Tracker at https://hss2.hss.mun.ca/funding/competitions/3847.\
 n\nFor more information\, on this competition or any other prospective fun
 ding proposal\,\nor to inform the Dean's Office of interest in an applicat
 ion or competition\,\ncontact an HSS Grants Facilitator. Details can be fo
 und at\nhttps://www.mun.ca/hss/faculty_staff/research_support_services/\n\
 n
LOCATION:Internal (HSS)
SUMMARY:CSA Group: Explore Research Program
URL;VALUE=URI:https://hss2.hss.mun.ca/funding/competitions/3847
CATEGORIES:Internal (HSS)
END:VEVENT
BEGIN:VEVENT
DTSTAMP:20260420T104849Z
UID:7b89308a-eb6b-4ec8-b446-f7a62f2133be
DTSTART;VALUE=DATE:20260527
DESCRIPTION:Canadian Standard Association: CSA Group\nCSA Group: Explore Re
 search Program\n\nDeadlines\n2026-05-18 - Internal (HSS)\n2026-05-27 - Int
 ernal (RIS)\n2026-06-01 - External\n\nView this competition in HSS's Resea
 rch Funding Tracker at https://hss2.hss.mun.ca/funding/competitions/3847.\
 n\nFor more information\, on this competition or any other prospective fun
 ding proposal\,\nor to inform the Dean's Office of interest in an applicat
 ion or competition\,\ncontact an HSS Grants Facilitator. Details can be fo
 und at\nhttps://www.mun.ca/hss/faculty_staff/research_support_services/\n\
 n
LOCATION:Internal (RIS)
SUMMARY:CSA Group: Explore Research Program
URL;VALUE=URI:https://hss2.hss.mun.ca/funding/competitions/3847
CATEGORIES:Internal (RIS)
END:VEVENT
BEGIN:VEVENT
DTSTAMP:20260420T104849Z
UID:334881a6-66e1-4a93-a3c1-cba249fb9c75
DTSTART;VALUE=DATE:20260601
DESCRIPTION:Canadian Standard Association: CSA Group\nCSA Group: Explore Re
 search Program\n\nDeadlines\n2026-05-18 - Internal (HSS)\n2026-05-27 - Int
 ernal (RIS)\n2026-06-01 - External\n\nView this competition in HSS's Resea
 rch Funding Tracker at https://hss2.hss.mun.ca/funding/competitions/3847.\
 n\nFor more information\, on this competition or any other prospective fun
 ding proposal\,\nor to inform the Dean's Office of interest in an applicat
 ion or competition\,\ncontact an HSS Grants Facilitator. Details can be fo
 und at\nhttps://www.mun.ca/hss/faculty_staff/research_support_services/\n\
 n
LOCATION:External
SUMMARY:CSA Group: Explore Research Program
URL;VALUE=URI:https://hss2.hss.mun.ca/funding/competitions/3847
CATEGORIES:External
END:VEVENT
END:VCALENDAR
