BEGIN:VCALENDAR
VERSION:2.0
PRODID:icalendar-ruby
CALSCALE:GREGORIAN
BEGIN:VEVENT
DTSTAMP:20260420T104849Z
UID:a1cecbd2-149c-4881-9f08-d984585e7335
DTSTART;VALUE=DATE:20260409
DESCRIPTION:Burroughs Wellcome Fund\nBWF: Climate Change and Human Health S
 eed Grants (April competition)\n\nDeadlines\n2026-04-09 - Internal (HSS)\n
 2026-04-20 - Internal (RIS)\n2026-04-23 - External\n\nView this competitio
 n in HSS's Research Funding Tracker at https://hss2.hss.mun.ca/funding/com
 petitions/3849.\n\nFor more information\, on this competition or any other
  prospective funding proposal\,\nor to inform the Dean's Office of interes
 t in an application or competition\,\ncontact an HSS Grants Facilitator. D
 etails can be found at\nhttps://www.mun.ca/hss/faculty_staff/research_supp
 ort_services/\n\n
LOCATION:Internal (HSS)
SUMMARY:BWF: Climate Change and Human Health Seed Grants (April competition
 )
URL;VALUE=URI:https://hss2.hss.mun.ca/funding/competitions/3849
CATEGORIES:Internal (HSS)
END:VEVENT
BEGIN:VEVENT
DTSTAMP:20260420T104849Z
UID:fce12545-d8bd-4711-838f-a6458d923b8c
DTSTART;VALUE=DATE:20260420
DESCRIPTION:Burroughs Wellcome Fund\nBWF: Climate Change and Human Health S
 eed Grants (April competition)\n\nDeadlines\n2026-04-09 - Internal (HSS)\n
 2026-04-20 - Internal (RIS)\n2026-04-23 - External\n\nView this competitio
 n in HSS's Research Funding Tracker at https://hss2.hss.mun.ca/funding/com
 petitions/3849.\n\nFor more information\, on this competition or any other
  prospective funding proposal\,\nor to inform the Dean's Office of interes
 t in an application or competition\,\ncontact an HSS Grants Facilitator. D
 etails can be found at\nhttps://www.mun.ca/hss/faculty_staff/research_supp
 ort_services/\n\n
LOCATION:Internal (RIS)
SUMMARY:BWF: Climate Change and Human Health Seed Grants (April competition
 )
URL;VALUE=URI:https://hss2.hss.mun.ca/funding/competitions/3849
CATEGORIES:Internal (RIS)
END:VEVENT
BEGIN:VEVENT
DTSTAMP:20260420T104849Z
UID:bd1349f6-0af8-43f4-b54c-b7918d1ce0a2
DTSTART;VALUE=DATE:20260423
DESCRIPTION:Burroughs Wellcome Fund\nBWF: Climate Change and Human Health S
 eed Grants (April competition)\n\nDeadlines\n2026-04-09 - Internal (HSS)\n
 2026-04-20 - Internal (RIS)\n2026-04-23 - External\n\nView this competitio
 n in HSS's Research Funding Tracker at https://hss2.hss.mun.ca/funding/com
 petitions/3849.\n\nFor more information\, on this competition or any other
  prospective funding proposal\,\nor to inform the Dean's Office of interes
 t in an application or competition\,\ncontact an HSS Grants Facilitator. D
 etails can be found at\nhttps://www.mun.ca/hss/faculty_staff/research_supp
 ort_services/\n\n
LOCATION:External
SUMMARY:BWF: Climate Change and Human Health Seed Grants (April competition
 )
URL;VALUE=URI:https://hss2.hss.mun.ca/funding/competitions/3849
CATEGORIES:External
END:VEVENT
END:VCALENDAR
