BEGIN:VCALENDAR
VERSION:2.0
PRODID:icalendar-ruby
CALSCALE:GREGORIAN
BEGIN:VEVENT
DTSTAMP:20260420T104849Z
UID:5225fb02-72b8-4006-8ff3-08bdc5c17830
DTSTART;VALUE=DATE:20260709
DESCRIPTION:Burroughs Wellcome Fund\n BWF: Climate Change and Human Health 
 Seed Grants (July competition)\n\nDeadlines\n2026-07-09 - Internal (HSS)\n
 2026-07-20 - Internal (RIS)\n2026-07-23 - External\n\nView this competitio
 n in HSS's Research Funding Tracker at https://hss2.hss.mun.ca/funding/com
 petitions/3850.\n\nFor more information\, on this competition or any other
  prospective funding proposal\,\nor to inform the Dean's Office of interes
 t in an application or competition\,\ncontact an HSS Grants Facilitator. D
 etails can be found at\nhttps://www.mun.ca/hss/faculty_staff/research_supp
 ort_services/\n\n
LOCATION:Internal (HSS)
SUMMARY: BWF: Climate Change and Human Health Seed Grants (July competition
 )
URL;VALUE=URI:https://hss2.hss.mun.ca/funding/competitions/3850
CATEGORIES:Internal (HSS)
END:VEVENT
BEGIN:VEVENT
DTSTAMP:20260420T104849Z
UID:6c4a2123-9645-44b9-8afd-7d47fc98a11a
DTSTART;VALUE=DATE:20260720
DESCRIPTION:Burroughs Wellcome Fund\n BWF: Climate Change and Human Health 
 Seed Grants (July competition)\n\nDeadlines\n2026-07-09 - Internal (HSS)\n
 2026-07-20 - Internal (RIS)\n2026-07-23 - External\n\nView this competitio
 n in HSS's Research Funding Tracker at https://hss2.hss.mun.ca/funding/com
 petitions/3850.\n\nFor more information\, on this competition or any other
  prospective funding proposal\,\nor to inform the Dean's Office of interes
 t in an application or competition\,\ncontact an HSS Grants Facilitator. D
 etails can be found at\nhttps://www.mun.ca/hss/faculty_staff/research_supp
 ort_services/\n\n
LOCATION:Internal (RIS)
SUMMARY: BWF: Climate Change and Human Health Seed Grants (July competition
 )
URL;VALUE=URI:https://hss2.hss.mun.ca/funding/competitions/3850
CATEGORIES:Internal (RIS)
END:VEVENT
BEGIN:VEVENT
DTSTAMP:20260420T104849Z
UID:29a72563-6496-4665-a84e-226728c5a020
DTSTART;VALUE=DATE:20260723
DESCRIPTION:Burroughs Wellcome Fund\n BWF: Climate Change and Human Health 
 Seed Grants (July competition)\n\nDeadlines\n2026-07-09 - Internal (HSS)\n
 2026-07-20 - Internal (RIS)\n2026-07-23 - External\n\nView this competitio
 n in HSS's Research Funding Tracker at https://hss2.hss.mun.ca/funding/com
 petitions/3850.\n\nFor more information\, on this competition or any other
  prospective funding proposal\,\nor to inform the Dean's Office of interes
 t in an application or competition\,\ncontact an HSS Grants Facilitator. D
 etails can be found at\nhttps://www.mun.ca/hss/faculty_staff/research_supp
 ort_services/\n\n
LOCATION:External
SUMMARY: BWF: Climate Change and Human Health Seed Grants (July competition
 )
URL;VALUE=URI:https://hss2.hss.mun.ca/funding/competitions/3850
CATEGORIES:External
END:VEVENT
END:VCALENDAR
