BEGIN:VCALENDAR
VERSION:2.0
PRODID:icalendar-ruby
CALSCALE:GREGORIAN
BEGIN:VEVENT
DTSTAMP:20260420T104849Z
UID:5208651e-fff1-48a6-9a0f-9945e81be56c
DTSTART;VALUE=DATE:20260108
DESCRIPTION:Burroughs Wellcome Fund\nBWF: Climate Change and Human Health S
 eed Grants (January competition)\n\nDeadlines\n2026-01-08 - Internal (HSS)
 \n2026-01-19 - Internal (RIS)\n2026-01-22 - External\n\nView this competit
 ion in HSS's Research Funding Tracker at https://hss2.hss.mun.ca/funding/c
 ompetitions/3851.\n\nFor more information\, on this competition or any oth
 er prospective funding proposal\,\nor to inform the Dean's Office of inter
 est in an application or competition\,\ncontact an HSS Grants Facilitator.
  Details can be found at\nhttps://www.mun.ca/hss/faculty_staff/research_su
 pport_services/\n\n
LOCATION:Internal (HSS)
SUMMARY:BWF: Climate Change and Human Health Seed Grants (January competiti
 on)
URL;VALUE=URI:https://hss2.hss.mun.ca/funding/competitions/3851
CATEGORIES:Internal (HSS)
END:VEVENT
BEGIN:VEVENT
DTSTAMP:20260420T104849Z
UID:16023e50-eb15-4cef-9c64-5d838da72e09
DTSTART;VALUE=DATE:20260119
DESCRIPTION:Burroughs Wellcome Fund\nBWF: Climate Change and Human Health S
 eed Grants (January competition)\n\nDeadlines\n2026-01-08 - Internal (HSS)
 \n2026-01-19 - Internal (RIS)\n2026-01-22 - External\n\nView this competit
 ion in HSS's Research Funding Tracker at https://hss2.hss.mun.ca/funding/c
 ompetitions/3851.\n\nFor more information\, on this competition or any oth
 er prospective funding proposal\,\nor to inform the Dean's Office of inter
 est in an application or competition\,\ncontact an HSS Grants Facilitator.
  Details can be found at\nhttps://www.mun.ca/hss/faculty_staff/research_su
 pport_services/\n\n
LOCATION:Internal (RIS)
SUMMARY:BWF: Climate Change and Human Health Seed Grants (January competiti
 on)
URL;VALUE=URI:https://hss2.hss.mun.ca/funding/competitions/3851
CATEGORIES:Internal (RIS)
END:VEVENT
BEGIN:VEVENT
DTSTAMP:20260420T104849Z
UID:c4618979-07a7-4170-b0a6-ebedceb90743
DTSTART;VALUE=DATE:20260122
DESCRIPTION:Burroughs Wellcome Fund\nBWF: Climate Change and Human Health S
 eed Grants (January competition)\n\nDeadlines\n2026-01-08 - Internal (HSS)
 \n2026-01-19 - Internal (RIS)\n2026-01-22 - External\n\nView this competit
 ion in HSS's Research Funding Tracker at https://hss2.hss.mun.ca/funding/c
 ompetitions/3851.\n\nFor more information\, on this competition or any oth
 er prospective funding proposal\,\nor to inform the Dean's Office of inter
 est in an application or competition\,\ncontact an HSS Grants Facilitator.
  Details can be found at\nhttps://www.mun.ca/hss/faculty_staff/research_su
 pport_services/\n\n
LOCATION:External
SUMMARY:BWF: Climate Change and Human Health Seed Grants (January competiti
 on)
URL;VALUE=URI:https://hss2.hss.mun.ca/funding/competitions/3851
CATEGORIES:External
END:VEVENT
END:VCALENDAR
