BEGIN:VCALENDAR
VERSION:2.0
PRODID:icalendar-ruby
CALSCALE:GREGORIAN
BEGIN:VEVENT
DTSTAMP:20260420T104849Z
UID:2cccc611-d5d3-4df1-9d0a-553fd89458ca
DTSTART;VALUE=DATE:20260903
DESCRIPTION:Canadian Institutes of Health Research\nCIHR: Canada Postdoctor
 al Research Award program\n\nDeadlines\n2026-09-03 - Internal (HSS)\n2026-
 09-14 - Internal (RIS)\n2026-09-17 - External\n\nView this competition in 
 HSS's Research Funding Tracker at https://hss2.hss.mun.ca/funding/competit
 ions/3855.\n\nFor more information\, on this competition or any other pros
 pective funding proposal\,\nor to inform the Dean's Office of interest in 
 an application or competition\,\ncontact an HSS Grants Facilitator. Detail
 s can be found at\nhttps://www.mun.ca/hss/faculty_staff/research_support_s
 ervices/\n\n
LOCATION:Internal (HSS)
SUMMARY:CIHR: Canada Postdoctoral Research Award program
URL;VALUE=URI:https://hss2.hss.mun.ca/funding/competitions/3855
CATEGORIES:Internal (HSS)
END:VEVENT
BEGIN:VEVENT
DTSTAMP:20260420T104849Z
UID:6676d034-dc2b-4ee7-95db-d171d3b2d4f8
DTSTART;VALUE=DATE:20260914
DESCRIPTION:Canadian Institutes of Health Research\nCIHR: Canada Postdoctor
 al Research Award program\n\nDeadlines\n2026-09-03 - Internal (HSS)\n2026-
 09-14 - Internal (RIS)\n2026-09-17 - External\n\nView this competition in 
 HSS's Research Funding Tracker at https://hss2.hss.mun.ca/funding/competit
 ions/3855.\n\nFor more information\, on this competition or any other pros
 pective funding proposal\,\nor to inform the Dean's Office of interest in 
 an application or competition\,\ncontact an HSS Grants Facilitator. Detail
 s can be found at\nhttps://www.mun.ca/hss/faculty_staff/research_support_s
 ervices/\n\n
LOCATION:Internal (RIS)
SUMMARY:CIHR: Canada Postdoctoral Research Award program
URL;VALUE=URI:https://hss2.hss.mun.ca/funding/competitions/3855
CATEGORIES:Internal (RIS)
END:VEVENT
BEGIN:VEVENT
DTSTAMP:20260420T104849Z
UID:55037092-004c-4df8-9628-42d7b9e31f21
DTSTART;VALUE=DATE:20260917
DESCRIPTION:Canadian Institutes of Health Research\nCIHR: Canada Postdoctor
 al Research Award program\n\nDeadlines\n2026-09-03 - Internal (HSS)\n2026-
 09-14 - Internal (RIS)\n2026-09-17 - External\n\nView this competition in 
 HSS's Research Funding Tracker at https://hss2.hss.mun.ca/funding/competit
 ions/3855.\n\nFor more information\, on this competition or any other pros
 pective funding proposal\,\nor to inform the Dean's Office of interest in 
 an application or competition\,\ncontact an HSS Grants Facilitator. Detail
 s can be found at\nhttps://www.mun.ca/hss/faculty_staff/research_support_s
 ervices/\n\n
LOCATION:External
SUMMARY:CIHR: Canada Postdoctoral Research Award program
URL;VALUE=URI:https://hss2.hss.mun.ca/funding/competitions/3855
CATEGORIES:External
END:VEVENT
END:VCALENDAR
