BEGIN:VCALENDAR
VERSION:2.0
PRODID:icalendar-ruby
CALSCALE:GREGORIAN
BEGIN:VEVENT
DTSTAMP:20260426T005024Z
UID:4b9e4ae6-0cd1-4612-a55a-261c0d3ff960
DTSTART;VALUE=DATE:20260430
DESCRIPTION:Tri-agency Institutional Programs Secretariat\nTIPS: Canada Imp
 act+ Research Training Awards (2nd intake)\n\nDeadlines\n2026-04-30 - Inte
 rnal (HSS)\n2026-05-01 - Internal (RIS)\n2027-06-03 - External\n\nView thi
 s competition in HSS's Research Funding Tracker at https://hss2.hss.mun.ca
 /funding/competitions/3856.\n\nFor more information\, on this competition 
 or any other prospective funding proposal\,\nor to inform the Dean's Offic
 e of interest in an application or competition\,\ncontact an HSS Grants Fa
 cilitator. Details can be found at\nhttps://www.mun.ca/hss/faculty_staff/r
 esearch_support_services/\n\n
LOCATION:Internal (HSS)
SUMMARY:TIPS: Canada Impact+ Research Training Awards (2nd intake)
URL;VALUE=URI:https://hss2.hss.mun.ca/funding/competitions/3856
CATEGORIES:Internal (HSS)
END:VEVENT
BEGIN:VEVENT
DTSTAMP:20260426T005024Z
UID:83bb2574-a2e9-4fd4-ba18-d8d968e8f3f2
DTSTART;VALUE=DATE:20260501
DESCRIPTION:Tri-agency Institutional Programs Secretariat\nTIPS: Canada Imp
 act+ Research Training Awards (2nd intake)\n\nDeadlines\n2026-04-30 - Inte
 rnal (HSS)\n2026-05-01 - Internal (RIS)\n2027-06-03 - External\n\nView thi
 s competition in HSS's Research Funding Tracker at https://hss2.hss.mun.ca
 /funding/competitions/3856.\n\nFor more information\, on this competition 
 or any other prospective funding proposal\,\nor to inform the Dean's Offic
 e of interest in an application or competition\,\ncontact an HSS Grants Fa
 cilitator. Details can be found at\nhttps://www.mun.ca/hss/faculty_staff/r
 esearch_support_services/\n\n
LOCATION:Internal (RIS)
SUMMARY:TIPS: Canada Impact+ Research Training Awards (2nd intake)
URL;VALUE=URI:https://hss2.hss.mun.ca/funding/competitions/3856
CATEGORIES:Internal (RIS)
END:VEVENT
BEGIN:VEVENT
DTSTAMP:20260426T005024Z
UID:dfe7fcfc-9f06-4585-a0f1-a6560b192002
DTSTART;VALUE=DATE:20270603
DESCRIPTION:Tri-agency Institutional Programs Secretariat\nTIPS: Canada Imp
 act+ Research Training Awards (2nd intake)\n\nDeadlines\n2026-04-30 - Inte
 rnal (HSS)\n2026-05-01 - Internal (RIS)\n2027-06-03 - External\n\nView thi
 s competition in HSS's Research Funding Tracker at https://hss2.hss.mun.ca
 /funding/competitions/3856.\n\nFor more information\, on this competition 
 or any other prospective funding proposal\,\nor to inform the Dean's Offic
 e of interest in an application or competition\,\ncontact an HSS Grants Fa
 cilitator. Details can be found at\nhttps://www.mun.ca/hss/faculty_staff/r
 esearch_support_services/\n\n
LOCATION:External
SUMMARY:TIPS: Canada Impact+ Research Training Awards (2nd intake)
URL;VALUE=URI:https://hss2.hss.mun.ca/funding/competitions/3856
CATEGORIES:External
END:VEVENT
END:VCALENDAR
